BEGIN:VCALENDAR
VERSION:2.0
PRODID:-//Brandywine Red Clay - ECPv6.15.18//NONSGML v1.0//EN
CALSCALE:GREGORIAN
METHOD:PUBLISH
X-WR-CALNAME:Brandywine Red Clay
X-ORIGINAL-URL:https://brandywineredclay.org
X-WR-CALDESC:Events for Brandywine Red Clay
REFRESH-INTERVAL;VALUE=DURATION:PT1H
X-Robots-Tag:noindex
X-PUBLISHED-TTL:PT1H
BEGIN:VTIMEZONE
TZID:UTC
BEGIN:STANDARD
TZOFFSETFROM:+0000
TZOFFSETTO:+0000
TZNAME:UTC
DTSTART:20250101T000000
END:STANDARD
END:VTIMEZONE
BEGIN:VEVENT
DTSTART;TZID=UTC:20260425T080000
DTEND;TZID=UTC:20260425T120000
DTSTAMP:20260420T194016
CREATED:20260115T143942Z
LAST-MODIFIED:20260326T123026Z
UID:7198-1777104000-1777118400@brandywineredclay.org
SUMMARY:Trout Rodeo
DESCRIPTION:Save the Date for Saturday\, April 25\, 2026 \nFor more information or to register\, please click here.
URL:https://brandywineredclay.org/event/trout-rodeo-2/
LOCATION:PA
ATTACH;FMTTYPE=image/jpeg:https://brandywineredclay.org/wp-content/uploads/2024/12/img_3613_720.jpg
END:VEVENT
END:VCALENDAR